BEGIN:VCALENDAR
VERSION:2.0
PRODID:-//Pferde für unsere Kinder e.V. - ECPv6.15.20//NONSGML v1.0//EN
CALSCALE:GREGORIAN
METHOD:PUBLISH
X-WR-CALNAME:Pferde für unsere Kinder e.V.
X-ORIGINAL-URL:https://www.pferde-fuer-unsere-kinder.de
X-WR-CALDESC:Veranstaltungen für Pferde für unsere Kinder e.V.
REFRESH-INTERVAL;VALUE=DURATION:PT1H
X-Robots-Tag:noindex
X-PUBLISHED-TTL:PT1H
BEGIN:VTIMEZONE
TZID:Europe/Berlin
BEGIN:DAYLIGHT
TZOFFSETFROM:+0100
TZOFFSETTO:+0200
TZNAME:CEST
DTSTART:20250330T010000
END:DAYLIGHT
BEGIN:STANDARD
TZOFFSETFROM:+0200
TZOFFSETTO:+0100
TZNAME:CET
DTSTART:20251026T010000
END:STANDARD
BEGIN:DAYLIGHT
TZOFFSETFROM:+0100
TZOFFSETTO:+0200
TZNAME:CEST
DTSTART:20260329T010000
END:DAYLIGHT
BEGIN:STANDARD
TZOFFSETFROM:+0200
TZOFFSETTO:+0100
TZNAME:CET
DTSTART:20261025T010000
END:STANDARD
BEGIN:DAYLIGHT
TZOFFSETFROM:+0100
TZOFFSETTO:+0200
TZNAME:CEST
DTSTART:20270328T010000
END:DAYLIGHT
BEGIN:STANDARD
TZOFFSETFROM:+0200
TZOFFSETTO:+0100
TZNAME:CET
DTSTART:20271031T010000
END:STANDARD
END:VTIMEZONE
BEGIN:VEVENT
DTSTART;TZID=Europe/Berlin:20260606T100000
DTEND;TZID=Europe/Berlin:20260607T160000
DTSTAMP:20260419T220556
CREATED:20260319T141805Z
LAST-MODIFIED:20260319T141811Z
UID:12720-1780740000-1780848000@www.pferde-fuer-unsere-kinder.de
SUMMARY:Kinderfahrsporttage auf Gut Margrave
DESCRIPTION:Zusammen mit anderen Fahrsportlern veranstaltet das Gut Margrave einen Kindertrainingstag der pferdebegeisterten Kindern auch einen Einblick in das Fahren mit Pferden bieten soll. \nWeitere Informationen und die Anmeldung finden Sie hier.
URL:https://www.pferde-fuer-unsere-kinder.de/veranstaltungskalender/kinderfahrsporttage-auf-gut-margrave/
LOCATION:Gut Margrave\, Langendamm 24 a\, 15528 Spreenhagen\, Brandenburg\, Germany
CATEGORIES:Pony- / Pferdeerlebnis,Workshop
ATTACH;FMTTYPE=image/webp:https://www.pferde-fuer-unsere-kinder.de/wp-content/uploads/2026/03/Kinderfahrsporttage-Gut-Margrave.webp
END:VEVENT
END:VCALENDAR