BEGIN:VCALENDAR
VERSION:2.0
PRODID:-//Pferde für unsere Kinder e.V. - ECPv6.15.20//NONSGML v1.0//EN
CALSCALE:GREGORIAN
METHOD:PUBLISH
X-ORIGINAL-URL:https://www.pferde-fuer-unsere-kinder.de
X-WR-CALDESC:Veranstaltungen für Pferde für unsere Kinder e.V.
REFRESH-INTERVAL;VALUE=DURATION:PT1H
X-Robots-Tag:noindex
X-PUBLISHED-TTL:PT1H
BEGIN:VTIMEZONE
TZID:Europe/Berlin
BEGIN:DAYLIGHT
TZOFFSETFROM:+0100
TZOFFSETTO:+0200
TZNAME:CEST
DTSTART:20250330T010000
END:DAYLIGHT
BEGIN:STANDARD
TZOFFSETFROM:+0200
TZOFFSETTO:+0100
TZNAME:CET
DTSTART:20251026T010000
END:STANDARD
BEGIN:DAYLIGHT
TZOFFSETFROM:+0100
TZOFFSETTO:+0200
TZNAME:CEST
DTSTART:20260329T010000
END:DAYLIGHT
BEGIN:STANDARD
TZOFFSETFROM:+0200
TZOFFSETTO:+0100
TZNAME:CET
DTSTART:20261025T010000
END:STANDARD
BEGIN:DAYLIGHT
TZOFFSETFROM:+0100
TZOFFSETTO:+0200
TZNAME:CEST
DTSTART:20270328T010000
END:DAYLIGHT
BEGIN:STANDARD
TZOFFSETFROM:+0200
TZOFFSETTO:+0100
TZNAME:CET
DTSTART:20271031T010000
END:STANDARD
END:VTIMEZONE
BEGIN:VEVENT
DTSTART;VALUE=DATE:20260421
DTEND;VALUE=DATE:20260422
DTSTAMP:20260419T143422
CREATED:20260313T071333Z
LAST-MODIFIED:20260415T060122Z
UID:12618-1776729600-1776815999@www.pferde-fuer-unsere-kinder.de
SUMMARY:HIPPOLINI Grundschule bei Sonnenreiten Münstertal
DESCRIPTION:Die HIPPOLINI Grundschule von Sonnenreiten im Münstertal ist der nächste Meilenstein für junge Reiter zwischen 8 und 12 Jahren. Hier wird das Gelernte gefestigt. Die Kinder werden gezielt an das eigenständige Reiten und die feine Kommunikation mit dem Partner Pferd herangeführt. In der malerischen Kulisse des Schwarzwalds wird reiterliche Präzision mit einer tiefen Empathie für das Tier verbunden – für Kinder\, die über sich hinauswachsen wollen. \nWas gemeinsam gemeistert wird: \n\nBalance & Losgelassenheit: In spielerischen Einheiten wird der zügelunabhängige Grundsitz geschult – für eine mitschwingende Balance in allen Gangarten.\nPräzise Führtechnik: Die korrekte Einwirkung vom Boden aus wird erlernt\, um das Pony sicher und durchsetzungsfähig im Schritt\, Trab und Galopp zu leiten.\nLernwerkstatt & Theorie: Im Freispielbereich vertiefen die Kinder eigenständig ihr Wissen über Anatomie\, Haltung und die „Sprache“ der Pferde.\nPferdepflege & Equipment: Es wird Verantwortung beim Putzen\, Gurten und Trensen übernommen und ein respektvoller Umgang mit dem Partner Pony erlernt.\nSozialkompetenz im Team: Durch das bewährte Drei-Säulen-Konzept (Reiter\, Führer\, Gruppe) wird Kooperation\, Vertrauen und demokratisches Miteinander gefördert.\n\nWann: Wöchentlich dienstags und mittwochs \nDie Anmeldung erfolgt unter www.sonnenreiten.de 
URL:https://www.pferde-fuer-unsere-kinder.de/veranstaltungskalender/hippolini-grundschule-bei-sonnenreiten-muenstertal/
LOCATION:Sonnenreiten Münstertal\, Münsterhalden 7\, 79244 Münstertal\, Baden-Württemberg\, Germany
CATEGORIES:Ausbildung,HIPPOLINI
ATTACH;FMTTYPE=image/webp:https://www.pferde-fuer-unsere-kinder.de/wp-content/uploads/2026/03/Grundschule-Sonnenreiten-Muestertal.webp
END:VEVENT
BEGIN:VEVENT
DTSTART;VALUE=DATE:20260420
DTEND;VALUE=DATE:20260421
DTSTAMP:20260419T143422
CREATED:20260313T082231Z
LAST-MODIFIED:20260414T083348Z
UID:12645-1776643200-1776729599@www.pferde-fuer-unsere-kinder.de
SUMMARY:HIPPOLINI Maxi Club bei Sonnenreiten Münstertal
DESCRIPTION:Der HIPPOLINI Maxi Club von Sonnenreiten im Münstertal ist das ideale Angebot für Kinder zwischen 6 und 8 Jahren\, die tiefer in die Welt der Ponys eintauchen möchten. Hier werden spielerisches Lernen mit fundierten Grundlagen der Pferdepflege und des Reitens verbunden. Im Herzen des Schwarzwalds wird die Selbstständigkeit der Kinder gefördert und eine Basis für eine lebenslange Freundschaft zwischen Menschen und Tier geschaffen. Die Einheiten finden wöchentlich statt und bieten durch ein offenes Konzept maximale Flexibilität für den Einstieg. \nWas wird vertieft? \n\nReiterliche Grundlagen: Sanfter Aufbau von Sitz\, Balance und feiner Hilfengebung.\nPferdepflege & Wissen: Erlernen von sicherem Putzen\, Satteln und Verstehen der Pferdesprache.\nSelbstwirksamkeit: Stärkung des Selbstbewusstseins durch das eigenständige Führen und Versorgen der Ponys.\nTeam-Spirit: Gemeinsames Meistern von Aufgaben in der Gruppe für starken Zusammenhalt.\nNaturerlebnis: Aktive Bewegung und Achtsamkeit in der idyllischen Umgebung des Münstertals.\n\nWann: wöchentlich\, immer montags \nDie Anmeldung erfolgt unter www.sonnenreiten.de.
URL:https://www.pferde-fuer-unsere-kinder.de/veranstaltungskalender/hippolini-maxi-club-bei-sonnenreiten-muenstertal/
LOCATION:Sonnenreiten Münstertal\, Münsterhalden 7\, 79244 Münstertal\, Baden-Württemberg\, Germany
CATEGORIES:Ausbildung,HIPPOLINI
ATTACH;FMTTYPE=image/webp:https://www.pferde-fuer-unsere-kinder.de/wp-content/uploads/2026/03/Maxi-Club-Sonnenreiten-Muenstertal.webp
END:VEVENT
BEGIN:VEVENT
DTSTART;VALUE=DATE:20260421
DTEND;VALUE=DATE:20260422
DTSTAMP:20260419T143422
CREATED:20260313T082909Z
LAST-MODIFIED:20260415T060057Z
UID:12653-1776729600-1776815999@www.pferde-fuer-unsere-kinder.de
SUMMARY:HIPPOLINI Mini Club bei Sonnenreiten Münstertal
DESCRIPTION:Der HIPPOLINI Mini Club von Sonnenreitens im Münstertal ist der perfekte Reiteinstieg für Kinder zwischen 4 und 7 Jahren. Sie entdecken die Welt der Ponys auf besonders liebevolle und spielerische Weise. Anstatt klassischen Reitunterrichts steht das vertrauensvolle Miteinander\, die Körperwahrnehmung und der gemeinsame Spaß in der Natur des Schwarzwalds im Fokus. Die Einheiten finden wöchentlich jeden Dienstag und Mittwoch statt. Dank eines flexiblen Konzepts ist ein Einstieg jederzeit möglich. \nWas wird gefördert: \n\nMotorik & Balance: Schulung von Gleichgewicht und Körperwahrnehmung auf dem Ponyrücken.\nSoziale Kompetenz: Stärkung von Teamfähigkeit und Empathie durch das Miteinander in der Gruppe.\nPersönlichkeitsentwicklung: Aufbau von Selbstvertrauen und Verantwortungsbewusstsein im Umgang mit dem Tier.\nSinnesentfaltung: Ganzheitliches Erleben mit „Herz\, Huf und Hand“ in der Natur des Münstertals.\nKreativität: Viel Raum für Fantasie und freies Spiel rund um unsere Ponys.\n\nWann: wöchentlich immer dienstags und mittwochs \nDie Anmeldung erfolgt unter www.sonnenreiten.de.
URL:https://www.pferde-fuer-unsere-kinder.de/veranstaltungskalender/hippolini-mini-club-bei-sonnenreiten-muenstertal/
LOCATION:Sonnenreiten Münstertal\, Münsterhalden 7\, 79244 Münstertal\, Baden-Württemberg\, Germany
CATEGORIES:Ausbildung,HIPPOLINI
ATTACH;FMTTYPE=image/webp:https://www.pferde-fuer-unsere-kinder.de/wp-content/uploads/2026/03/Mini-Club-Sonnenreiten-Muenstertal.webp
END:VEVENT
BEGIN:VEVENT
DTSTART;VALUE=DATE:20260422
DTEND;VALUE=DATE:20260423
DTSTAMP:20260419T143422
CREATED:20260320T091222Z
LAST-MODIFIED:20260416T065559Z
UID:12745-1776816000-1776902399@www.pferde-fuer-unsere-kinder.de
SUMMARY:HIPPOLINI Grundschule bei Sonnenreiten Münstertal
DESCRIPTION:Die HIPPOLINI Grundschule von Sonnenreiten im Münstertal ist der nächste Meilenstein für junge Reiter zwischen 8 und 12 Jahren. Hier wird das Gelernte gefestigt. Die Kinder werden gezielt an das eigenständige Reiten und die feine Kommunikation mit dem Partner Pferd herangeführt. In der malerischen Kulisse des Schwarzwalds wird reiterliche Präzision mit einer tiefen Empathie für das Tier verbunden – für Kinder\, die über sich hinauswachsen wollen. \nWas gemeinsam gemeistert wird: \n\nBalance & Losgelassenheit: In spielerischen Einheiten wird der zügelunabhängige Grundsitz geschult – für eine mitschwingende Balance in allen Gangarten.\nPräzise Führtechnik: Die korrekte Einwirkung vom Boden aus wird erlernt\, um das Pony sicher und durchsetzungsfähig im Schritt\, Trab und Galopp zu leiten.\nLernwerkstatt & Theorie: Im Freispielbereich vertiefen die Kinder eigenständig ihr Wissen über Anatomie\, Haltung und die „Sprache“ der Pferde.\nPferdepflege & Equipment: Es wird Verantwortung beim Putzen\, Gurten und Trensen übernommen und ein respektvoller Umgang mit dem Partner Pony erlernt.\nSozialkompetenz im Team: Durch das bewährte Drei-Säulen-Konzept (Reiter\, Führer\, Gruppe) wird Kooperation\, Vertrauen und demokratisches Miteinander gefördert.\n\nWann: Wöchentlich dienstags und mittwochs \nDie Anmeldung erfolgt unter www.sonnenreiten.de 
URL:https://www.pferde-fuer-unsere-kinder.de/veranstaltungskalender/hippolini-grundschule-bei-sonnenreiten-muenstertal-2/
LOCATION:Sonnenreiten Münstertal\, Münsterhalden 7\, 79244 Münstertal\, Baden-Württemberg\, Germany
CATEGORIES:Ausbildung,HIPPOLINI
ATTACH;FMTTYPE=image/webp:https://www.pferde-fuer-unsere-kinder.de/wp-content/uploads/2026/03/Grundschule-Sonnenreiten-Muestertal.webp
END:VEVENT
BEGIN:VEVENT
DTSTART;VALUE=DATE:20260422
DTEND;VALUE=DATE:20260423
DTSTAMP:20260419T143422
CREATED:20260320T091543Z
LAST-MODIFIED:20260416T065620Z
UID:12753-1776816000-1776902399@www.pferde-fuer-unsere-kinder.de
SUMMARY:HIPPOLINI Mini Club bei Sonnenreiten Münstertal
DESCRIPTION:Der HIPPOLINI Mini Club von Sonnenreitens im Münstertal ist der perfekte Reiteinstieg für Kinder zwischen 4 und 7 Jahren. Sie entdecken die Welt der Ponys auf besonders liebevolle und spielerische Weise. Anstatt klassischen Reitunterrichts steht das vertrauensvolle Miteinander\, die Körperwahrnehmung und der gemeinsame Spaß in der Natur des Schwarzwalds im Fokus. Die Einheiten finden wöchentlich jeden Dienstag und Mittwoch statt. Dank eines flexiblen Konzepts ist ein Einstieg jederzeit möglich. \nWas wird gefördert: \n\nMotorik & Balance: Schulung von Gleichgewicht und Körperwahrnehmung auf dem Ponyrücken.\nSoziale Kompetenz: Stärkung von Teamfähigkeit und Empathie durch das Miteinander in der Gruppe.\nPersönlichkeitsentwicklung: Aufbau von Selbstvertrauen und Verantwortungsbewusstsein im Umgang mit dem Tier.\nSinnesentfaltung: Ganzheitliches Erleben mit „Herz\, Huf und Hand“ in der Natur des Münstertals.\nKreativität: Viel Raum für Fantasie und freies Spiel rund um unsere Ponys.\n\nWann: wöchentlich immer dienstags und mittwochs \nDie Anmeldung erfolgt unter www.sonnenreiten.de.
URL:https://www.pferde-fuer-unsere-kinder.de/veranstaltungskalender/hippolini-mini-club-bei-sonnenreiten-muenstertal-2/
LOCATION:Sonnenreiten Münstertal\, Münsterhalden 7\, 79244 Münstertal\, Baden-Württemberg\, Germany
CATEGORIES:Ausbildung,HIPPOLINI
ATTACH;FMTTYPE=image/webp:https://www.pferde-fuer-unsere-kinder.de/wp-content/uploads/2026/03/Mini-Club-Sonnenreiten-Muenstertal.webp
END:VEVENT
END:VCALENDAR