BEGIN:VCALENDAR
VERSION:2.0
PRODID:-//Pferde für unsere Kinder e.V. - ECPv6.15.20//NONSGML v1.0//EN
CALSCALE:GREGORIAN
METHOD:PUBLISH
X-ORIGINAL-URL:https://www.pferde-fuer-unsere-kinder.de
X-WR-CALDESC:Veranstaltungen für Pferde für unsere Kinder e.V.
REFRESH-INTERVAL;VALUE=DURATION:PT1H
X-Robots-Tag:noindex
X-PUBLISHED-TTL:PT1H
BEGIN:VTIMEZONE
TZID:Europe/Berlin
BEGIN:DAYLIGHT
TZOFFSETFROM:+0100
TZOFFSETTO:+0200
TZNAME:CEST
DTSTART:20250330T010000
END:DAYLIGHT
BEGIN:STANDARD
TZOFFSETFROM:+0200
TZOFFSETTO:+0100
TZNAME:CET
DTSTART:20251026T010000
END:STANDARD
BEGIN:DAYLIGHT
TZOFFSETFROM:+0100
TZOFFSETTO:+0200
TZNAME:CEST
DTSTART:20260329T010000
END:DAYLIGHT
BEGIN:STANDARD
TZOFFSETFROM:+0200
TZOFFSETTO:+0100
TZNAME:CET
DTSTART:20261025T010000
END:STANDARD
BEGIN:DAYLIGHT
TZOFFSETFROM:+0100
TZOFFSETTO:+0200
TZNAME:CEST
DTSTART:20270328T010000
END:DAYLIGHT
BEGIN:STANDARD
TZOFFSETFROM:+0200
TZOFFSETTO:+0100
TZNAME:CET
DTSTART:20271031T010000
END:STANDARD
END:VTIMEZONE
BEGIN:VEVENT
DTSTART;TZID=Europe/Berlin:20260224T150000
DTEND;TZID=Europe/Berlin:20260224T170000
DTSTAMP:20260422T141914
CREATED:20260304T080308Z
LAST-MODIFIED:20260304T090648Z
UID:12282-1771945200-1771952400@www.pferde-fuer-unsere-kinder.de
SUMMARY:"Pferde für unsere Kinder"-Jahreshauptversammlung
DESCRIPTION:Am 24. Februar 2026 findet die diesjährige Jahreshauptversammlung des Vereins „Pferde für unsere Kinder“ statt. Die Vereinsmitglieder werden gebeten sich bis zum 17. Februar 2026 telefonisch (04296 / 74874-16) oder per Mail (vetter@pferde-fuer-unsere-kinder.de) bei Lena Vetter anzumelden. \nIm Anschluss lädt der Verein die Mitglieder herzlich zu einem Netzwerktreffen von Partner\, Unterstützern und Kindereinrichtungen aus der Region ein. Ein besonderes Highlight ist die Vorstellung des Projektes „Reiten im Kindergarten“ vom Kindergarten Arche Noah aus Legau.
URL:https://www.pferde-fuer-unsere-kinder.de/veranstaltungskalender/pferde-fuer-unsere-kinder-jahreshauptversammlung/
LOCATION:Gasthof Löwen\, Marktplatz 3\, 87764 Legau\, Bayern\, Germany
CATEGORIES:Jahreshauptversammlung
ATTACH;FMTTYPE=image/webp:https://www.pferde-fuer-unsere-kinder.de/wp-content/uploads/2026/03/Pferde-fuer-unsere-Kinder-e.-V.webp
END:VEVENT
END:VCALENDAR